BEGIN:VCALENDAR
VERSION:2.0
PRODID:PHP
METHOD:PUBLISH
X-WR-CALNAME:Schedule
X-WR-TIMEZONE:Europe/Prague
BEGIN:VTIMEZONE
TZID:Europe/Prague
BEGIN:DAYLIGHT
TZOFFSETFROM:-0500
TZOFFSETTO:-0400
DTSTART:1403086496
RRULE:FREQ=YEARLY;BYMONTH=3;BYDAY=2SU
TZNAME:EDT
END:DAYLIGHT
BEGIN:STANDARD
TZOFFSETFROM:-0400
TZOFFSETTO:-0500
DTSTART:1403086496
RRULE:FREQ=YEARLY;BYMONTH=11;BYDAY=1SU
TZNAME:EST
END:STANDARD
END:VTIMEZONE
BEGIN:VEVENT
DTSTART;TZID=Europe/Prague:20241013T000000
DTEND:20241013T235959
DTSTAMP:20260421T124630Z
LOCATION:Černošice\, louka Višňovka
DESCRIPTION:Tradiční podzimní akce pro rodiny s dětmi. Pouštění draků\, bojovka a na závěr opékání buřtíků.
SUMMARY:Drakiáda 13.10.2024
UID:16351
SEQUENCE:0
END:VEVENT
END:VCALENDAR
