BEGIN:VCALENDAR
VERSION:2.0
PRODID:PHP
METHOD:PUBLISH
X-WR-CALNAME:Schedule
X-WR-TIMEZONE:Europe/Prague
BEGIN:VTIMEZONE
TZID:Europe/Prague
BEGIN:DAYLIGHT
TZOFFSETFROM:-0500
TZOFFSETTO:-0400
DTSTART:1403086496
RRULE:FREQ=YEARLY;BYMONTH=3;BYDAY=2SU
TZNAME:EDT
END:DAYLIGHT
BEGIN:STANDARD
TZOFFSETFROM:-0400
TZOFFSETTO:-0500
DTSTART:1403086496
RRULE:FREQ=YEARLY;BYMONTH=11;BYDAY=1SU
TZNAME:EST
END:STANDARD
END:VTIMEZONE
BEGIN:VEVENT
DTSTART;TZID=Europe/Prague:20260525T000000
DTEND:20260525T235959
DTSTAMP:20260425T150650Z
LOCATION:Sokolovna - velký sál
Fügnerova 1054/5
466 01 Jablonec nad Nisou
DESCRIPTION:V pondělí 25. května zveme v čase od 9:30 do 10:30 do velkého sálu sokolovny všechny ženy a seniorky\, které mají zájem protáhnout si tělo. Přidají-li se a zavítají mezi nás na kondičně-zdravotní cvičení i nějací muži\, budeme rádi.
S sebou - pohodlné sportovní oblečení\, sálovou obuv. Karimatky\, gymbally\, švihadla či overbally a další náčiní zapůjčíme.
SUMMARY:FIT SPOLU
UID:26974
SEQUENCE:0
END:VEVENT
END:VCALENDAR
