BEGIN:VCALENDAR
VERSION:2.0
PRODID:PHP
METHOD:PUBLISH
X-WR-CALNAME:Schedule
X-WR-TIMEZONE:Europe/Prague
BEGIN:VTIMEZONE
TZID:Europe/Prague
BEGIN:DAYLIGHT
TZOFFSETFROM:-0500
TZOFFSETTO:-0400
DTSTART:1403086496
RRULE:FREQ=YEARLY;BYMONTH=3;BYDAY=2SU
TZNAME:EDT
END:DAYLIGHT
BEGIN:STANDARD
TZOFFSETFROM:-0400
TZOFFSETTO:-0500
DTSTART:1403086496
RRULE:FREQ=YEARLY;BYMONTH=11;BYDAY=1SU
TZNAME:EST
END:STANDARD
END:VTIMEZONE
BEGIN:VEVENT
DTSTART;TZID=Europe/Prague:20260524T000000
DTEND:20260524T235959
DTSTAMP:20260424T133013Z
LOCATION:TJ Sokol Moravské Budějovice
DESCRIPTION: Přijďte si zacvičit a závodit! FREE Aerobik pro každého Máte rádi pohyb\, hudbu a skvělou atmosféru? Pak si v kalendáři červeně zakroužkujte datum 24. května 2026! Srdečně vás zveme na závody jednotlivců v aerobiku pod vedením zkušených cvičitelů.
SUMMARY:Free Aerobik
UID:26943
SEQUENCE:0
END:VEVENT
END:VCALENDAR
