BEGIN:VCALENDAR
VERSION:2.0
PRODID:PHP
METHOD:PUBLISH
X-WR-CALNAME:Schedule
X-WR-TIMEZONE:Europe/Prague
BEGIN:VTIMEZONE
TZID:Europe/Prague
BEGIN:DAYLIGHT
TZOFFSETFROM:-0500
TZOFFSETTO:-0400
DTSTART:1403086496
RRULE:FREQ=YEARLY;BYMONTH=3;BYDAY=2SU
TZNAME:EDT
END:DAYLIGHT
BEGIN:STANDARD
TZOFFSETFROM:-0400
TZOFFSETTO:-0500
DTSTART:1403086496
RRULE:FREQ=YEARLY;BYMONTH=11;BYDAY=1SU
TZNAME:EST
END:STANDARD
END:VTIMEZONE
BEGIN:VEVENT
DTSTART;TZID=Europe/Prague:20260426T000000
DTEND:20260426T235959
DTSTAMP:20260422T171847Z
LOCATION:Nový Jičín 
DESCRIPTION:Tradiční výlet na Skalky. Cestou budeme plnit úkoly a na závěr si opečeme něco dobrého na ohni. akce se koná za vhodného počasí. 
SUMMARY:Jarní procházka
UID:26877
SEQUENCE:0
END:VEVENT
END:VCALENDAR
