BEGIN:VCALENDAR
VERSION:2.0
PRODID:PHP
METHOD:PUBLISH
X-WR-CALNAME:Schedule
X-WR-TIMEZONE:Europe/Prague
BEGIN:VTIMEZONE
TZID:Europe/Prague
BEGIN:DAYLIGHT
TZOFFSETFROM:-0500
TZOFFSETTO:-0400
DTSTART:1403086496
RRULE:FREQ=YEARLY;BYMONTH=3;BYDAY=2SU
TZNAME:EDT
END:DAYLIGHT
BEGIN:STANDARD
TZOFFSETFROM:-0400
TZOFFSETTO:-0500
DTSTART:1403086496
RRULE:FREQ=YEARLY;BYMONTH=11;BYDAY=1SU
TZNAME:EST
END:STANDARD
END:VTIMEZONE
BEGIN:VEVENT
DTSTART;TZID=Europe/Prague:20230611T000000
DTEND:20230611T235959
DTSTAMP:20260421T124456Z
LOCATION:Dalešice 194\, 675 54 Dalešice
DESCRIPTION:Repríza představení Kufr plný peněz v podání dalešického ochotnického souboru DUSOT.
Představení na motivy hry Raye Cooneyho.
Začátek představení v 17.00 hodin v dalešické sokolovně.
 
https://www.sokoldalesice.cz/kufr-plny-penez/
SUMMARY:Kufr plný peněz - 2. repríza
UID:10310
SEQUENCE:0
END:VEVENT
END:VCALENDAR
