BEGIN:VCALENDAR
VERSION:2.0
PRODID:PHP
METHOD:PUBLISH
X-WR-CALNAME:Schedule
X-WR-TIMEZONE:Europe/Prague
BEGIN:VTIMEZONE
TZID:Europe/Prague
BEGIN:DAYLIGHT
TZOFFSETFROM:-0500
TZOFFSETTO:-0400
DTSTART:1403086496
RRULE:FREQ=YEARLY;BYMONTH=3;BYDAY=2SU
TZNAME:EDT
END:DAYLIGHT
BEGIN:STANDARD
TZOFFSETFROM:-0400
TZOFFSETTO:-0500
DTSTART:1403086496
RRULE:FREQ=YEARLY;BYMONTH=11;BYDAY=1SU
TZNAME:EST
END:STANDARD
END:VTIMEZONE
BEGIN:VEVENT
DTSTART;TZID=Europe/Prague:20260516T000000
DTEND:20260516T235959
DTSTAMP:20260421T162715Z
LOCATION:Mohelnice
DESCRIPTION:CO : turistický pochod "Mohelnický vandr"
KDY : sobota 16. května 2026 start od 8.oo - 10.oo hodin
KDE : START od sokolovny Mohelnice\, nám. Tyrše a Fügnera č.p.1
nenáročné TRASY pro pěší\, kočárky a ZTP v délce 5 a 7\,5 Km
CYKLOTRASY 20 a 40 Km
CÍL je na loděnici moravičanského bagru
STARTOVNÉ 50\,- Kč
SUMMARY:Mohelnický vandr - 11.ročník 2026
UID:26913
SEQUENCE:0
END:VEVENT
END:VCALENDAR
