BEGIN:VCALENDAR
VERSION:2.0
PRODID:PHP
METHOD:PUBLISH
X-WR-CALNAME:Schedule
X-WR-TIMEZONE:Europe/Prague
BEGIN:VTIMEZONE
TZID:Europe/Prague
BEGIN:DAYLIGHT
TZOFFSETFROM:-0500
TZOFFSETTO:-0400
DTSTART:1403086496
RRULE:FREQ=YEARLY;BYMONTH=3;BYDAY=2SU
TZNAME:EDT
END:DAYLIGHT
BEGIN:STANDARD
TZOFFSETFROM:-0400
TZOFFSETTO:-0500
DTSTART:1403086496
RRULE:FREQ=YEARLY;BYMONTH=11;BYDAY=1SU
TZNAME:EST
END:STANDARD
END:VTIMEZONE
BEGIN:VEVENT
DTSTART;TZID=Europe/Prague:20231007T000000
DTEND:20231007T235959
DTSTAMP:20260421T125437Z
LOCATION:Sokol Praha Královské Vinohrady\, Polská 1\, Praha 2
DESCRIPTION:PRAŽSKÉ SOKOLSKÉ ŽUPY ZASTOUPENÉSOKOLSKOU ŽUPOU PODBĚLOHORSKOUvás srdečně zvou na1. nácvičný sraz sletové skladbyČMELÁČCIpro oblast Praha a Středočeský krajTermín konání: sobota 7. 10. 20239.00 – 13.00 hod.Prezence: 8.30 – 8.50 hod.Místo konání: T.J. Sokol Praha Královské Vinohrady\, Polská 1\, Praha 2v areálu Riegrovy sadyÚčastnický poplatek: 0\,- Kč
Doprava: metro trasa „A“ stanice „Náměstí Míru“\; metro trasa „C“ stanice„Muzeum“ tramvaj č. 11 + 13 stanice „Vinohradská tržnice“
Program: 1/ nácvik sletové skladby R+D2/ různé: informace\, dotazy
Vezmi s sebou: metodický materiál k skladbě Čmeláčcihttps://www.sokol.eu/slet-2024-skladba-cmelacci
Pro urychlení nácviku je vhodné\, když se s materiálem předem seznámíte.
Sletové náčiní „Čmeláčci“ – dětské kyblíky na písek (červené a žluté\,ale může být jakýkoliv kyblík stejné velikosti) – vezměte s seboucvičební obuv a oděv do tělocvičny\, tužku\, papír a dobrou náladu
občerstvení vlastní – pořadatel nezajišťuje
Návratky do 5.10.2023 https://forms.gle/jSeW3wUaWkzCgZZ78
Praha\, září 2023 Helena Vaňkovávedoucí Pražského sboru cvičitelů RD + PDt. 602 383 094 e-mail: helvan@seznam.cz
Srdečně Vás zvouses. Věra Smejkalová            ses. Jitka Hrnčířová           ses. Markéta Rohanovánáčelnice SŽ Podbělohorské          autorka skladby                 autorka skladby
SUMMARY:Nácvičný sraz sletové skladby ČMELÁČCI pro oblast Praha a Středočeský kraj  7. 10. 2023
UID:11996
SEQUENCE:0
END:VEVENT
END:VCALENDAR
