BEGIN:VCALENDAR
VERSION:2.0
PRODID:PHP
METHOD:PUBLISH
X-WR-CALNAME:Schedule
X-WR-TIMEZONE:Europe/Prague
BEGIN:VTIMEZONE
TZID:Europe/Prague
BEGIN:DAYLIGHT
TZOFFSETFROM:-0500
TZOFFSETTO:-0400
DTSTART:1403086496
RRULE:FREQ=YEARLY;BYMONTH=3;BYDAY=2SU
TZNAME:EDT
END:DAYLIGHT
BEGIN:STANDARD
TZOFFSETFROM:-0400
TZOFFSETTO:-0500
DTSTART:1403086496
RRULE:FREQ=YEARLY;BYMONTH=11;BYDAY=1SU
TZNAME:EST
END:STANDARD
END:VTIMEZONE
BEGIN:VEVENT
DTSTART;TZID=Europe/Prague:20220624T000000
DTEND:20220625T235959
DTSTAMP:20260421T172138Z
LOCATION:Bzí 120\, 468 22 Železný Brod - sokolovna
DESCRIPTION:Můžete si u nás zahrát volejbal\, prohlédnout si sokolovnu\, dozvědět se něco o historii Sokola a budou připraveny i hry pro děti. Občerstvení zajištěno.
SUMMARY:Noc sokoloven Bzí
UID:6075
SEQUENCE:0
END:VEVENT
END:VCALENDAR
