BEGIN:VCALENDAR
VERSION:2.0
PRODID:PHP
METHOD:PUBLISH
X-WR-CALNAME:Schedule
X-WR-TIMEZONE:Europe/Prague
BEGIN:VTIMEZONE
TZID:Europe/Prague
BEGIN:DAYLIGHT
TZOFFSETFROM:-0500
TZOFFSETTO:-0400
DTSTART:1403086496
RRULE:FREQ=YEARLY;BYMONTH=3;BYDAY=2SU
TZNAME:EDT
END:DAYLIGHT
BEGIN:STANDARD
TZOFFSETFROM:-0400
TZOFFSETTO:-0500
DTSTART:1403086496
RRULE:FREQ=YEARLY;BYMONTH=11;BYDAY=1SU
TZNAME:EST
END:STANDARD
END:VTIMEZONE
BEGIN:VEVENT
DTSTART;TZID=Europe/Prague:20230623T000000
DTEND:20230624T235959
DTSTAMP:20260420T192933Z
LOCATION:Olešnice 165
37331 Olešnice
DESCRIPTION:Dne 23.6.2023 proběhne v Olešnické sokolovně noc sokoloven pořádaná oddílem Olešnická lvíčata. Plánované je i přespání v sokolovně ve spacácích až do 24.6.2023
Na tento den si oddíl Hýbánky naplánoval i veřejné vystoupení - závěrečná akademie ve školním roce 2022/2023 a to v Olešnické sokolovně od 16 h. Představí se jak nejmenší mrňousci\, tak školkové děti a nakonec děti z prvního stupně základní školy. Přijďte se všichni podívat\, jak jsou šikovní.
SUMMARY:Noc sokoloven v TJ sokol Olešnice 2023
UID:9678
SEQUENCE:0
END:VEVENT
END:VCALENDAR
