BEGIN:VCALENDAR
VERSION:2.0
PRODID:PHP
METHOD:PUBLISH
X-WR-CALNAME:Schedule
X-WR-TIMEZONE:Europe/Prague
BEGIN:VTIMEZONE
TZID:Europe/Prague
BEGIN:DAYLIGHT
TZOFFSETFROM:-0500
TZOFFSETTO:-0400
DTSTART:1403086496
RRULE:FREQ=YEARLY;BYMONTH=3;BYDAY=2SU
TZNAME:EDT
END:DAYLIGHT
BEGIN:STANDARD
TZOFFSETFROM:-0400
TZOFFSETTO:-0500
DTSTART:1403086496
RRULE:FREQ=YEARLY;BYMONTH=11;BYDAY=1SU
TZNAME:EST
END:STANDARD
END:VTIMEZONE
BEGIN:VEVENT
DTSTART;TZID=Europe/Prague:20260408T000000
DTEND:20260408T235959
DTSTAMP:20260422T173642Z
LOCATION:Městečko Trnávka
DESCRIPTION:Pochod jarní přírodou organizuje naše jednota společne se spolkem Skupina 55+.
Více informací o pochodu\, trase a časový itinerář boudou doplněny v průběhu\, nejpozději však týden před akcí.
SUMMARY:Pochod jarní přírodou 2026
UID:26365
SEQUENCE:0
END:VEVENT
END:VCALENDAR
