BEGIN:VCALENDAR
VERSION:2.0
PRODID:PHP
METHOD:PUBLISH
X-WR-CALNAME:Schedule
X-WR-TIMEZONE:Europe/Prague
BEGIN:VTIMEZONE
TZID:Europe/Prague
BEGIN:DAYLIGHT
TZOFFSETFROM:-0500
TZOFFSETTO:-0400
DTSTART:1403086496
RRULE:FREQ=YEARLY;BYMONTH=3;BYDAY=2SU
TZNAME:EDT
END:DAYLIGHT
BEGIN:STANDARD
TZOFFSETFROM:-0400
TZOFFSETTO:-0500
DTSTART:1403086496
RRULE:FREQ=YEARLY;BYMONTH=11;BYDAY=1SU
TZNAME:EST
END:STANDARD
END:VTIMEZONE
BEGIN:VEVENT
DTSTART;TZID=Europe/Prague:20260509T000000
DTEND:20260510T235959
DTSTAMP:20260424T133307Z
LOCATION:Mariánské náměstí 197\, Zlín – Štípa
DESCRIPTION:Klub skalkařů Zlín Vás zve na prodejní výstavu skalniček.
 
Akce se koná v budově sokolovny ve Štípě (Mariánské náměstí 197).
 
Otevírací doba:Sobota 9. května 2026: 9:00–18:00Neděle 10. května 2026: 9:00–16:00
 
Vstupné: dobrovolné
 
Součástí akce je prodej přebytků výpěstků – skalniček\, trvalek\, konifer\, pokojových rostlin a sukulentů.
SUMMARY:Prodejní výstava skalniček ve Štípě
UID:26998
SEQUENCE:0
END:VEVENT
END:VCALENDAR
