BEGIN:VCALENDAR
VERSION:2.0
PRODID:PHP
METHOD:PUBLISH
X-WR-CALNAME:Schedule
X-WR-TIMEZONE:Europe/Prague
BEGIN:VTIMEZONE
TZID:Europe/Prague
BEGIN:DAYLIGHT
TZOFFSETFROM:-0500
TZOFFSETTO:-0400
DTSTART:1403086496
RRULE:FREQ=YEARLY;BYMONTH=3;BYDAY=2SU
TZNAME:EDT
END:DAYLIGHT
BEGIN:STANDARD
TZOFFSETFROM:-0400
TZOFFSETTO:-0500
DTSTART:1403086496
RRULE:FREQ=YEARLY;BYMONTH=11;BYDAY=1SU
TZNAME:EST
END:STANDARD
END:VTIMEZONE
BEGIN:VEVENT
DTSTART;TZID=Europe/Prague:20260517T000000
DTEND:20260517T235959
DTSTAMP:20260422T174449Z
LOCATION:sokolovna Chotěboř Tyršova 712 
DESCRIPTION:Navštivte náš premiérový májový Růžový FLER jarmark v Chotěboři v neděli 17. 5. 2026 od 10-16 v sokolovně! Čeká na vás až 50 stánků s českými\, ryze rukodělnými výrobky (oblečení\, šperky\, pohádky pro děti\, hračky\, keramika a rozmanité jarní dekorace\, módní doplňky a mnoho dalších). Najdete zde farmářské potraviny a sladké i slané dobroty včetně bezlepkových produktů. Pro děti jsme připravili vyžití v dětských dílničkách\, součástí akce bude módní přehlídka\, vystoupení dětského sboru a na své si přijdou jak milovníci grilování\, tak vegetariáni a vyznavači výborného pití (pivo\, víno\, alko i nealko drinky\, káva i čaj). A možná bude i překvapení... Zastavte se u nás příjemně se naladit a užít si bezva volný den! Těšíme se na vás.
SUMMARY:Růžový Fler jarmark 
UID:26866
SEQUENCE:0
END:VEVENT
END:VCALENDAR
