BEGIN:VCALENDAR
VERSION:2.0
PRODID:PHP
METHOD:PUBLISH
X-WR-CALNAME:Schedule
X-WR-TIMEZONE:Europe/Prague
BEGIN:VTIMEZONE
TZID:Europe/Prague
BEGIN:DAYLIGHT
TZOFFSETFROM:-0500
TZOFFSETTO:-0400
DTSTART:1403086496
RRULE:FREQ=YEARLY;BYMONTH=3;BYDAY=2SU
TZNAME:EDT
END:DAYLIGHT
BEGIN:STANDARD
TZOFFSETFROM:-0400
TZOFFSETTO:-0500
DTSTART:1403086496
RRULE:FREQ=YEARLY;BYMONTH=11;BYDAY=1SU
TZNAME:EST
END:STANDARD
END:VTIMEZONE
BEGIN:VEVENT
DTSTART;TZID=Europe/Prague:20220326T000000
DTEND:20220326T235959
DTSTAMP:20260420T205500Z
LOCATION:Tělocvična T.J.Soko Henčlov\, Sokolů 50/15\, Henčlov\, 750 02 Přerov
DESCRIPTION:Dětské šibřinky pořádané T.J.Sokol Henčlov\, kdy děti i dospělé čeká jako každý rok\, spousta zábavy\, soutěží\, bohaté občerstvení.
 
SUMMARY:Šibřinky
UID:4572
SEQUENCE:0
END:VEVENT
END:VCALENDAR
