BEGIN:VCALENDAR
VERSION:2.0
PRODID:PHP
METHOD:PUBLISH
X-WR-CALNAME:Schedule
X-WR-TIMEZONE:Europe/Prague
BEGIN:VTIMEZONE
TZID:Europe/Prague
BEGIN:DAYLIGHT
TZOFFSETFROM:-0500
TZOFFSETTO:-0400
DTSTART:1403086496
RRULE:FREQ=YEARLY;BYMONTH=3;BYDAY=2SU
TZNAME:EDT
END:DAYLIGHT
BEGIN:STANDARD
TZOFFSETFROM:-0400
TZOFFSETTO:-0500
DTSTART:1403086496
RRULE:FREQ=YEARLY;BYMONTH=11;BYDAY=1SU
TZNAME:EST
END:STANDARD
END:VTIMEZONE
BEGIN:VEVENT
DTSTART;TZID=Europe/Prague:20260430T000000
DTEND:20260430T235959
DTSTAMP:20260424T133307Z
LOCATION:Areal za Sokolovnou Dobromilice
DESCRIPTION:Akce proběhne 30.4. 2026 od 17hod. v prostorách za Sokolovnou v Dobromilicích. Pro děti i dospělé je připraven čarodějnický program formou soutěžních her\, kde děti budou plnit různé úkoly sami ale\, i se svými kamarády.  Chybět nebudou ani čarodějnické tanečky pro děti. Na závěr akce bude upálená zlá čarodějnice. Na konec si děti můžou u ohně opéct špekáčky.  A je připraveno i drobné občerstvení. Příchod v maskách je vítán.
SUMMARY:Slet čarodějnic 2026 v Dobromilicích
UID:27007
SEQUENCE:0
END:VEVENT
END:VCALENDAR
