BEGIN:VCALENDAR
VERSION:2.0
PRODID:PHP
METHOD:PUBLISH
X-WR-CALNAME:Schedule
X-WR-TIMEZONE:Europe/Prague
BEGIN:VTIMEZONE
TZID:Europe/Prague
BEGIN:DAYLIGHT
TZOFFSETFROM:-0500
TZOFFSETTO:-0400
DTSTART:1403086496
RRULE:FREQ=YEARLY;BYMONTH=3;BYDAY=2SU
TZNAME:EDT
END:DAYLIGHT
BEGIN:STANDARD
TZOFFSETFROM:-0400
TZOFFSETTO:-0500
DTSTART:1403086496
RRULE:FREQ=YEARLY;BYMONTH=11;BYDAY=1SU
TZNAME:EST
END:STANDARD
END:VTIMEZONE
BEGIN:VEVENT
DTSTART;TZID=Europe/Prague:20240928T000000
DTEND:20240928T235959
DTSTAMP:20260421T124959Z
LOCATION:katastr města Mirošov
DESCRIPTION:Akce je určena pro děti i dospělé nejen  z řad sokolů\, ale i pro veřejnost. Stezka s plněním úkolů souvisejících se Sokolem bude vedena lesem v okolí Mirošova. Start je připraven v 10 hod od mirošovské sokolovny\, na závěr občerstvení a vyhodnocení akce s předáním odměn.
SUMMARY:Sokolská stezka v Mirošově
UID:16041
SEQUENCE:0
END:VEVENT
END:VCALENDAR
