BEGIN:VCALENDAR
VERSION:2.0
PRODID:PHP
METHOD:PUBLISH
X-WR-CALNAME:Schedule
X-WR-TIMEZONE:Europe/Prague
BEGIN:VTIMEZONE
TZID:Europe/Prague
BEGIN:DAYLIGHT
TZOFFSETFROM:-0500
TZOFFSETTO:-0400
DTSTART:1403086496
RRULE:FREQ=YEARLY;BYMONTH=3;BYDAY=2SU
TZNAME:EDT
END:DAYLIGHT
BEGIN:STANDARD
TZOFFSETFROM:-0400
TZOFFSETTO:-0500
DTSTART:1403086496
RRULE:FREQ=YEARLY;BYMONTH=11;BYDAY=1SU
TZNAME:EST
END:STANDARD
END:VTIMEZONE
BEGIN:VEVENT
DTSTART;TZID=Europe/Prague:20241008T000000
DTEND:20241008T235959
DTSTAMP:20260421T113041Z
LOCATION:Sokolská 230\, Komárov
DESCRIPTION:Večer sokolských světel v Komárově se uskuteční v úterý 8. října 2024 od 18:30 hod.
Sraz před komárovskou sokolovnou!
Půjdeme společně trasu: sokolovna - hráz Červeného rybníka - kolem potoka - k pomníku Miroslava Tyrše před muzeem. Položením květin a zapálením svíček uctíme Památný den sokolstva.
Akce se koná za každého počasí.
Vezměte si svíčky a lampiony s sebou.
Zájemci si mohou na místě zakoupit sokolskou kokardu.
Velmi zdařilá akce se 175 účastníky a 10 psy.
SUMMARY:Večer sokolských světel 2024
UID:15978
SEQUENCE:0
END:VEVENT
END:VCALENDAR
