BEGIN:VCALENDAR
VERSION:2.0
PRODID:PHP
METHOD:PUBLISH
X-WR-CALNAME:Schedule
X-WR-TIMEZONE:Europe/Prague
BEGIN:VTIMEZONE
TZID:Europe/Prague
BEGIN:DAYLIGHT
TZOFFSETFROM:-0500
TZOFFSETTO:-0400
DTSTART:1403086496
RRULE:FREQ=YEARLY;BYMONTH=3;BYDAY=2SU
TZNAME:EDT
END:DAYLIGHT
BEGIN:STANDARD
TZOFFSETFROM:-0400
TZOFFSETTO:-0500
DTSTART:1403086496
RRULE:FREQ=YEARLY;BYMONTH=11;BYDAY=1SU
TZNAME:EST
END:STANDARD
END:VTIMEZONE
BEGIN:VEVENT
DTSTART;TZID=Europe/Prague:20260509T000000
DTEND:20260509T235959
DTSTAMP:20260424T131245Z
LOCATION:Slavíč 86\, 753 61 Hranice
DESCRIPTION:tradiční turnaj konaný v květnu na sportovním hřišti ve Slavíči u sokolovny.
pro okolní vesnice  a vesnické tými\, nemusejí být členy sokolské organizace.
 
účast 9-11 týmů\,
SUMMARY:Volejbalový turnaj
UID:26980
SEQUENCE:0
END:VEVENT
END:VCALENDAR
