BEGIN:VCALENDAR
VERSION:2.0
PRODID:PHP
METHOD:PUBLISH
X-WR-CALNAME:Schedule
X-WR-TIMEZONE:Europe/Prague
BEGIN:VTIMEZONE
TZID:Europe/Prague
BEGIN:DAYLIGHT
TZOFFSETFROM:-0500
TZOFFSETTO:-0400
DTSTART:1403086496
RRULE:FREQ=YEARLY;BYMONTH=3;BYDAY=2SU
TZNAME:EDT
END:DAYLIGHT
BEGIN:STANDARD
TZOFFSETFROM:-0400
TZOFFSETTO:-0500
DTSTART:1403086496
RRULE:FREQ=YEARLY;BYMONTH=11;BYDAY=1SU
TZNAME:EST
END:STANDARD
END:VTIMEZONE
BEGIN:VEVENT
DTSTART;TZID=Europe/Prague:20250503T000000
DTEND:20250503T235959
DTSTAMP:20260421T151048Z
LOCATION:SOKOLOVNA VRATIMOV
DESCRIPTION:pořádá TJ Sokol Vratimov
➢ Hraje se na antukových kurtech v areálu sokolovny\, umělém povrchu základní školy\, případně v tělocvičně.➢ Kdy? 3. 5. 2025 prezentace družstev do 9:00\, ihned po vyřízení formalit a postavení májky.➢ Systém hry podle počtu družstev.➢ Družstva budou rozdělena d kategorií registrovaných a amatérů➢ Vklad do turnaje: 1.000\, -Kč/ družstvo➢ Občerstvení zajištěno v areálu Sokolovny➢ Zájemci se můžou hlásit na email: vbrus@seznam.cz \,příp. tel.:604 214 684➢ K přihlášce prosím přidejte jmenný seznam hráčů!
VÍCE INFORMACÍ O DĚNÍ V SOKOLOVNĚ NA www.sokolvratimov.web
SUMMARY:VOLEJBALOVÝ TURNAJ SMÍŠENÝCH DRUŽSTEV 3.5.2025
UID:20442
SEQUENCE:0
END:VEVENT
END:VCALENDAR
